BEGIN:VCALENDAR
VERSION:2.0
PRODID:-//Magdolna Udvar - ECPv6.15.18//NONSGML v1.0//EN
CALSCALE:GREGORIAN
METHOD:PUBLISH
X-WR-CALNAME:Magdolna Udvar
X-ORIGINAL-URL:https://magdolnaudvar.hu
X-WR-CALDESC:Események Magdolna Udvar
REFRESH-INTERVAL;VALUE=DURATION:PT1H
X-Robots-Tag:noindex
X-PUBLISHED-TTL:PT1H
BEGIN:VTIMEZONE
TZID:Europe/Budapest
BEGIN:DAYLIGHT
TZOFFSETFROM:+0100
TZOFFSETTO:+0200
TZNAME:CEST
DTSTART:20240331T010000
END:DAYLIGHT
BEGIN:STANDARD
TZOFFSETFROM:+0200
TZOFFSETTO:+0100
TZNAME:CET
DTSTART:20241027T010000
END:STANDARD
BEGIN:DAYLIGHT
TZOFFSETFROM:+0100
TZOFFSETTO:+0200
TZNAME:CEST
DTSTART:20250330T010000
END:DAYLIGHT
BEGIN:STANDARD
TZOFFSETFROM:+0200
TZOFFSETTO:+0100
TZNAME:CET
DTSTART:20251026T010000
END:STANDARD
BEGIN:DAYLIGHT
TZOFFSETFROM:+0100
TZOFFSETTO:+0200
TZNAME:CEST
DTSTART:20260329T010000
END:DAYLIGHT
BEGIN:STANDARD
TZOFFSETFROM:+0200
TZOFFSETTO:+0100
TZNAME:CET
DTSTART:20261025T010000
END:STANDARD
END:VTIMEZONE
BEGIN:VEVENT
DTSTART;TZID=Europe/Budapest:20251120T180000
DTEND;TZID=Europe/Budapest:20251120T190000
DTSTAMP:20260423T101018
CREATED:20250922T080414Z
LAST-MODIFIED:20250922T082840Z
UID:6716-1763661600-1763665200@magdolnaudvar.hu
SUMMARY:Irodalmi szalon - Várady Szabolcs verset (is) olvas
DESCRIPTION:november 20. csütörtök 18:00\nIrodalmi szalon – Várady Szabolcs verset (is) olvas\nVendégünk Várady Szabolcs Kossuth-díjas költő\, műfordító\, szerkesztő. Működésének két fő tere az Európa Könyvkiadó (1969-2005) és a Holmi című folyóirat (1989-2014) volt. Költészetéről így írt az egyik legjelentősebb kritikusunk\, Margócsy István: „„E költészet mozgatóerejét mindig is az analitikus látásmód finomsága és élessége biztosította: Várady kicsiny dolgokat tesz mindig versének kiindulópontjául\, kegyetlenül körbejárja őket\, elemeire szedi szét mindazt\, amit első pillanatra egyben láttatott – s aztán\, majdhogynem klasszicista versszerkesztési stratégiával vagy trükkel\, úgy tágítja ki kicsinynek koncipiált versének horizontját\, hogy aki akarja\, akár még tanulságot is találhat bennük. Várady az elsők között volt\, akik programszerűen is le akarták bontani a költő társadalmi szerepvállalásának hagyományos magasztosságát.” Meg fogjuk kérni\, olvasson verseiből is. Higgyék el\, saját költészetének utolérhetetlen tolmácsolója.\nJegyár: 2000 Ft \nMegosztom:
URL:https://magdolnaudvar.hu/esemeny/irodalmi-szalon-varady-szabolcs-verset-is-olvas/
LOCATION:Klauzál Gábor Művelődési Központ\, Nagytétényi út 31-33\, Budapest\, 1222\, Hungary
CATEGORIES:Ismeretterjesztés
ATTACH;FMTTYPE=image/jpeg:https://magdolnaudvar.hu/wp-content/uploads/2025/09/Varady_Szabolcs.jpg
END:VEVENT
END:VCALENDAR