BEGIN:VCALENDAR
VERSION:2.0
PRODID:-//Magdolna Udvar - ECPv6.15.18//NONSGML v1.0//EN
CALSCALE:GREGORIAN
METHOD:PUBLISH
X-WR-CALNAME:Magdolna Udvar
X-ORIGINAL-URL:https://magdolnaudvar.hu
X-WR-CALDESC:Események Magdolna Udvar
REFRESH-INTERVAL;VALUE=DURATION:PT1H
X-Robots-Tag:noindex
X-PUBLISHED-TTL:PT1H
BEGIN:VTIMEZONE
TZID:Europe/Budapest
BEGIN:DAYLIGHT
TZOFFSETFROM:+0100
TZOFFSETTO:+0200
TZNAME:CEST
DTSTART:20250330T010000
END:DAYLIGHT
BEGIN:STANDARD
TZOFFSETFROM:+0200
TZOFFSETTO:+0100
TZNAME:CET
DTSTART:20251026T010000
END:STANDARD
BEGIN:DAYLIGHT
TZOFFSETFROM:+0100
TZOFFSETTO:+0200
TZNAME:CEST
DTSTART:20260329T010000
END:DAYLIGHT
BEGIN:STANDARD
TZOFFSETFROM:+0200
TZOFFSETTO:+0100
TZNAME:CET
DTSTART:20261025T010000
END:STANDARD
BEGIN:DAYLIGHT
TZOFFSETFROM:+0100
TZOFFSETTO:+0200
TZNAME:CEST
DTSTART:20270328T010000
END:DAYLIGHT
BEGIN:STANDARD
TZOFFSETFROM:+0200
TZOFFSETTO:+0100
TZNAME:CET
DTSTART:20271031T010000
END:STANDARD
END:VTIMEZONE
BEGIN:VEVENT
DTSTART;TZID=Europe/Budapest:20260320T180000
DTEND;TZID=Europe/Budapest:20260502T180000
DTSTAMP:20260423T112736
CREATED:20260209T143734Z
LAST-MODIFIED:20260209T143734Z
UID:10018160-1774029600-1777744800@magdolnaudvar.hu
SUMMARY:A remény zarándokai  kiállítás
DESCRIPTION:Válogatás a Budatétényi Szent István-templomban rendezett Ars Sacra fesztiválon kiállított munkákból a Magdolna Udvar Időszaki Kiállítóterében. \nA remény az ami erőt ad ember próbáló utunkon\, segít úrrá lenni a nehézségeinken\, fájdalmainkon\, elakadásainkon. Ez visz előre a világ viharjai közepette és segít nyugodt szívvel tekinteni a jövőbe. \nA kiállítást megnyitja: Porteleki-Helbich Rozina.\n\nA kiállítás megtekinthető: május 2-ig
URL:https://magdolnaudvar.hu/esemeny/a-remeny-zarandokai-kiallitas/
LOCATION:Magdolna Udvar\, Kossuth Lajos utca 24.\, Budapest\, 1221\, Hungary
CATEGORIES:Kiállítás
ATTACH;FMTTYPE=image/jpeg:https://magdolnaudvar.hu/wp-content/uploads/2026/02/A-remeny-zarandokai_kiallitas_1080.jpg
END:VEVENT
BEGIN:VEVENT
DTSTART;TZID=Europe/Budapest:20260425T140000
DTEND;TZID=Europe/Budapest:20260425T170000
DTSTAMP:20260423T112736
CREATED:20260401T132157Z
LAST-MODIFIED:20260401T132157Z
UID:10018162-1777125600-1777136400@magdolnaudvar.hu
SUMMARY:Tájházak Napja a Barlanglakás Emlékkiállításban
DESCRIPTION:2026. április 25. szombat 14:00-17:00\nNyílt napunkon várjuk az érdeklődőket! \nHázigazda: Borbély Dóra\, a Dóra kertje megálmodója\, aki gyógynövényeket és festőnövényeket fog bemutatni látogatóinknak. Eseményünket pedagógusoknak is ajánljuk\, ugyanis Borbély Dóra különleges\nmúzeumpedagógia programot fog megvalósítani a Barlanglakásban 2026-tól!\nA Barlanglakás Emlékkiállítás szabadon megtekinthető ezen a hétvégi alkalmon. A kiállítás történetét és az egykori lakók mindennapjait Appel Péter tárlatvezető mutatja be. \nA részvétel díjtalan.
URL:https://magdolnaudvar.hu/esemeny/tajhazak-napja-a-barlanglakas-emlekkiallitasban/
LOCATION:Barlanglakás Emlékmúzeum\, Veréb utca 4.\, Budapest\, 1222\, Hungary
CATEGORIES:Ismeretterjesztés
ATTACH;FMTTYPE=image/jpeg:https://magdolnaudvar.hu/wp-content/uploads/2026/04/dora_kertje2.jpg
GEO:47.419312;19.030767
X-APPLE-STRUCTURED-LOCATION;VALUE=URI;X-ADDRESS=Barlanglakás Emlékmúzeum Veréb utca 4. Budapest 1222 Hungary;X-APPLE-RADIUS=500;X-TITLE=Veréb utca 4.:geo:19.030767,47.419312
END:VEVENT
BEGIN:VEVENT
DTSTART;TZID=Europe/Budapest:20260502T170000
DTEND;TZID=Europe/Budapest:20260502T190000
DTSTAMP:20260423T112736
CREATED:20260401T133227Z
LAST-MODIFIED:20260401T133534Z
UID:10018163-1777741200-1777748400@magdolnaudvar.hu
SUMMARY:A budafoki Törley-mauzóleum építtetője: Törley Józsefné Sacelláry Irén - Kissné Budai Rita előadása 
DESCRIPTION:2026. május 2. szombat 17:00\nA budafoki Törley-mauzóleum építtetője: Törley Józsefné Sacelláry Irén – Kissné Budai Rita előadása  \nMagyarországon mindenki ismeri a Törley nevet és márkát\, hiszen az 1882-ben alapított\, nemzetközi hírű pezsgőgyár a mai napig létezik. Kevesen tudják viszont\, hogy a gyáralapító Törley József felesége dúsgazdag görög családból származott\, és neki köszönhetjük a 22. kerületben található egyedülálló műemléket\, a Törley-mauzóleumot. A Sacelláry család történetéről\, Irén életéről\, házasságáról\, gyászáról\, helytállásáról\, hitéről és karitatív tevékenységeiről szól Kissné Budai Rita előadása.  \nJegyár: 2.000 Ft\nKlauzalhaz.jegy.hu  \n 
URL:https://magdolnaudvar.hu/esemeny/a-budafoki-torley-mauzoleum-epittetoje-torley-jozsefne-sacellary-iren-kissne-budai-rita-eloadasa/
LOCATION:Magdolna Udvar\, Kossuth Lajos utca 24.\, Budapest\, 1221\, Hungary
CATEGORIES:Ismeretterjesztés
ATTACH;FMTTYPE=image/jpeg:https://magdolnaudvar.hu/wp-content/uploads/2026/04/Sacellary_1920.jpg
END:VEVENT
BEGIN:VEVENT
DTSTART;TZID=Europe/Budapest:20260509T090000
DTEND;TZID=Europe/Budapest:20260509T190000
DTSTAMP:20260423T112736
CREATED:20260402T085746Z
LAST-MODIFIED:20260402T093453Z
UID:10018166-1778317200-1778353200@magdolnaudvar.hu
SUMMARY:Budapest 100 programok és nyitott házak Budafokon
DESCRIPTION:2026. május 9. szombat \nBudapest 100 programok és nyitott házak Budafokon \nVezetett épületlátogatások a Budafoki Városházán\n(1221 Budapest\, Városház tér 11.)\nAz épületsétákat Garbóci László\, helytörténész vezeti. A csoportok 9 és 10 órakor indulnak\, maximum 25 fő részvételével.\nSétáinkat kizárólag előzetes regisztrációval lehet látogatni! Regisztrálni az info@magdolnaudvar.hu címen lehet\, az időpont megjelölésével és a regisztrálni kívántak pontos számával. \nNyílt nap a Budafoki Református Templomban\n(1221 Budapest\, Demjén István u. 2.)\nA templomban 15-17 óra között várják a látogatókat. 17 órakor a Mozart Ifjúsági Zenekar tart koncertet. \nNyílt nap a Soós István Borászati Szakközépiskolában\n(1221 Budapest\, Kossuth Lajos u. 83.)\nKovács Zsuzsanna vezetésével bejárhatja az épület összes zugát\, és érdekes történetekkel ismerhet meg. A csoportok 15\, 16\, 17 és 18 órakor indulnak.\nA részvétel regisztrációhoz kötött\, regisztrálni a titkarsag@borasziskola.hu email címen\, a látogatás időpontjának megjelölésével lehet. \nA programokra a belépés díjtalan!
URL:https://magdolnaudvar.hu/esemeny/budapest-100-programok-es-nyitott-hazak-budafokon-2/
CATEGORIES:Ismeretterjesztés
ATTACH;FMTTYPE=image/jpeg:https://magdolnaudvar.hu/wp-content/uploads/2026/04/Budapest_100_1920.jpg
END:VEVENT
BEGIN:VEVENT
DTSTART;TZID=Europe/Budapest:20260514T180000
DTEND;TZID=Europe/Budapest:20260514T180000
DTSTAMP:20260423T112736
CREATED:20260409T105617Z
LAST-MODIFIED:20260409T105617Z
UID:10018172-1778781600-1778781600@magdolnaudvar.hu
SUMMARY:Feltár\, szembesít\, kritikát gyakorol - Irodalmi Szalon Závada Pállal
DESCRIPTION:2026. május 14. csütörtök 18:00\n\nFeltár\, szembesít\, kritikát gyakorol Irodalmi Szalon Závada PállalSzéchenyi Ágnes irodalomtörténész vendége Závada Pál szociológus\, szociográfus és író.\n\nA három majdnem ugyanaz\, de mégsem: nagyon is különböző tevékenység\, hozzáállás.Az 1986-ban megjelent Kulákprés című könyve egy időben húszezer forintért volt kapható\, mert ritka volt\, az iránta való érdeklődés azóta is töretlen. Kamaszkora Tótkomlóshoz köti\, témáiban is vissza-visszatér városához és vidékéhez. Kívülről tört be az irodalomba\, s igen hamar Kossuth-díjas lett. A mikrotörténelemből indul ki\, kényes-kellemetlen\, elhallgatott magán- és köztörténetekhez\, témákhoz nyúl. Őt olvasni nyugtalanító\, lelkiismeretébresztő.\,\,Ha van folytonosság a Závada-életműben\, akkor pontosan ez: végigkutatja és végigírja a huszadik századi magyar történelem legsötétebb\, legembertelenebb korszakait. Dokumentál\, kritikát gyakorol\, feltár\, szembesít. Öntörvényűen\, megalkuvás nélkül” – írta egyik méltatója abból az alkalomból\, hogy tavaly Rommer Vilmos díjat kapott.\n\nJegyár: 2000 Ft klauzalhaz.jegy.hu
URL:https://magdolnaudvar.hu/esemeny/feltar-szembesit-kritikat-gyakorol-irodalmi-szalon-zavada-pallal/
LOCATION:Magdolna Udvar\, Kossuth Lajos utca 24.\, Budapest\, 1221\, Hungary
CATEGORIES:Ismeretterjesztés
ATTACH;FMTTYPE=image/jpeg:https://magdolnaudvar.hu/wp-content/uploads/2026/04/Zavada_1920.jpg
END:VEVENT
BEGIN:VEVENT
DTSTART;TZID=Europe/Budapest:20260515T180000
DTEND;TZID=Europe/Budapest:20260515T200000
DTSTAMP:20260423T112736
CREATED:20260402T090045Z
LAST-MODIFIED:20260402T090045Z
UID:10018167-1778868000-1778875200@magdolnaudvar.hu
SUMMARY:Szürtreál - Artér Művészeti Egyesület tagjainak kiállítása
DESCRIPTION:2026. május 15. péntek 18:00 \nSzürtreál – Artér Művészeti Egyesület tagjainak kiállítása \nAz Artér Művészeti Egyesület tagjainak közös kiállítása a valóság és a szürrealitás határmezsgyéjén hoz létre egy új\, átmeneti művészeti teret. A szűrt\, áttetsző rétegek és az álomszerű képiség egymásba oldódva alakítják át a megszokott látványt.\nA megnyitó ünnepélyességét Cseh László szaxofonjának hangja emeli\, amely finoman rezonál a kiállítás kettős világával. Cseh László akusztikus tenor szaxofonján közismert jazz-standardek\, bossa novák és lírai jazz-balladák hangzanak el\, a dallam és az improvizáció harmonikus egymásba fonódásával. \nSzervező: Artér Művészeti Egyesület
URL:https://magdolnaudvar.hu/esemeny/szurtreal-arter-muveszeti-egyesulet-tagjainak-kiallitasa/
LOCATION:Magdolna Udvar\, Kossuth Lajos utca 24.\, Budapest\, 1221\, Hungary
CATEGORIES:Kiállítás
ATTACH;FMTTYPE=image/jpeg:https://magdolnaudvar.hu/wp-content/uploads/2026/04/Arter_1920.jpg
END:VEVENT
BEGIN:VEVENT
DTSTART;TZID=Europe/Budapest:20260516T090000
DTEND;TZID=Europe/Budapest:20260516T170000
DTSTAMP:20260423T112736
CREATED:20260402T090741Z
LAST-MODIFIED:20260402T092658Z
UID:10018168-1778922000-1778950800@magdolnaudvar.hu
SUMMARY:„…kiknek neve\, beíratott az Élet Könyvébe!” - Séta a Fiumei úti Sírkertben
DESCRIPTION:2026. május 16. péntek 9:00 \n„…kiknek neve\, beíratott az Élet Könyvébe!” – Séta a Fiumei úti Sírkertben \nBudafok 1926-ban vált várossá. Históriája jóval korábban kezdődött és az évszázadok folyamán\, a szomszédos településekével szorosan összefonódott. Méltatlan lenne\, ha a centenárium évében megfeledkeznénk mindazokról\, akik több-kevesebb szolgálatot tettek városunk felemelkedéséért\, az utókorért\, hírünk-nevünk naggyá tételéért. Számosan alusszák örök álmukat a Fiumei Úti Sírkertben azok közül\, akiknek élete valaha egybekötődött Budafok-Tétény történelmével.\nEgy kegyeleti séta keretében megidézzük alakjukat és fejet hajtunk emlékük előtt. \nA sétát vezeti: Bartos Mihály\, helytörténész\nSétánk körülbelül 3\,5 km-es távot jár be\, ideje 3 óra. \nHelyszín: Fiumei úti Sírkert (1086 Budapest\, Fiumei út 16-18.)\nTalálkozó: a temető főbejáratánál  \nA részvétel ingyenes\, de regisztrációhoz kötött.\nRegisztrálni az info@magdolnaudvar.hu címen lehet.
URL:https://magdolnaudvar.hu/esemeny/kiknek-neve-beiratott-az-elet-konyvebe-seta-a-fiumei-uti-sirkertben/
CATEGORIES:Ismeretterjesztés
ATTACH;FMTTYPE=image/jpeg:https://magdolnaudvar.hu/wp-content/uploads/2026/04/Fiumei-uti_1920.jpg
END:VEVENT
BEGIN:VEVENT
DTSTART;TZID=Europe/Budapest:20260520T180000
DTEND;TZID=Europe/Budapest:20260520T200000
DTSTAMP:20260423T112736
CREATED:20260402T091308Z
LAST-MODIFIED:20260402T092413Z
UID:10018169-1779300000-1779307200@magdolnaudvar.hu
SUMMARY:Budafok 20. századi templomainak jelentősége hazai templomépítészetünkben - Vukoszávlyev Zorán előadása
DESCRIPTION:2026. május 20. szerda 18:00 \nBudafok 20. századi templomainak jelentősége hazai templomépítészetünkben – Vukoszávlyev Zorán előadása \nA templom Isten háza\, az Istennel találkozás tere\, az istentiszteletben Krisztussal közösségben megélhető szakrális hely. Egy ház\, mely a lelki közösség fizikai reprezentációját is szolgálja – megmutatja a gyülekezet elkötelezettségét\, a hely megteremtésében hozott áldozatosságát jeleníti meg. Budafok keresztény szakrális építészetén keresztül megismerhetjük a település fejlődését\, az ott lakók habitusát\, a mindennapok között az ünnepek számára kijelölt idő megélésének lelkületét. A 20. században épült templomok történetében a felgyorsult idő jeleit láthatjuk\, az önképünket is megjelenítő stílusok váltásában egy közösség\, egy egyház identitásképének alakulását is érzékelhetjük\, és a történelem sorsfordulóit is leíró helyzeteket ismerhetünk meg. Az előadásban Budafok egy évszázadot átívelő történetében létrejött templomait a hazai templomépítészetben elfoglalt jelentőségükkel együtt ismerjük meg Vukoszávlyev Zorán PhD építész\, egyetemi docens (BME) tolmácsolásában. \nProgramunk ingyenes\, de regisztrációhoz kötött. Regisztrálni a fszek2203@fszek.hu címen lehet. \nHelyszín: FSZEK Budafoki Tagkönyvtár (1221 Budapest\, Kossuth Lajos utca 30.)
URL:https://magdolnaudvar.hu/esemeny/budafok-20-szazadi-templomainak-jelentosege-hazai-templomepiteszetunkben-vukoszavlyev-zoran-eloadasa/
LOCATION:Budafoki Könyvtár (FSZEK)\, Kossuth Lajos utca 30.\, Budapest\, 1221\, Hungary
CATEGORIES:Ismeretterjesztés
ATTACH;FMTTYPE=image/jpeg:https://magdolnaudvar.hu/wp-content/uploads/2026/04/Budafok_Konyvtar_1920.jpg
GEO:47.4259579;19.0383409
X-APPLE-STRUCTURED-LOCATION;VALUE=URI;X-ADDRESS=Budafoki Könyvtár (FSZEK) Kossuth Lajos utca 30. Budapest 1221 Hungary;X-APPLE-RADIUS=500;X-TITLE=Kossuth Lajos utca 30.:geo:19.0383409,47.4259579
END:VEVENT
BEGIN:VEVENT
DTSTART;TZID=Europe/Budapest:20260522T180000
DTEND;TZID=Europe/Budapest:20260522T180000
DTSTAMP:20260423T112736
CREATED:20260402T091632Z
LAST-MODIFIED:20260409T114739Z
UID:10018170-1779472800-1779472800@magdolnaudvar.hu
SUMMARY:Ligeti Zsuzsa grafikusművész önálló kiállítása
DESCRIPTION:2026. május 22. péntek 18:00 \nLigeti Zsuzsa grafikus művész önálló kiállítása \n„A pillanat varázsát akarom megragadni. Különösen érdekel a mozgás megjelenítése\, hiszen nincs két egyforma mozdulat\, de azt ábrázolni kell. Ezek valóban pillanatrajzok. Ugyanilyen fontosak számomra a természet formálta hegyek\, sziklák\, vízesések\, virágok\, fák\, az ember teremtette alkotások. Rajzaim között vannak\, amelyek csak néhány vonallal készülnek\, mert ez is elegendő a látvány megragadásához. Máskor úgy érzem\, több időt kell szentelnem egy-egy rajznak\, hogy vissza tudjam adni benyomásaimat. A FSZEK budafoki könyvtárában évekkel ezelőtt már bemutathattam rajzaimat\, most az utóbbi évek terméséből válogattam. Ellesett pillanatok a környezetből\, illetve utazásaim alatt készült pillanatrajzait mutatom meg.” (Ligeti Zsuzsa) \nSzervező: ArTér Művészeti Egyesület \nA belépés ingyenes.
URL:https://magdolnaudvar.hu/esemeny/ligeti-zsuzsa-grafikus-muvesz-onallo-kiallitasa/
LOCATION:Magdolna Udvar\, Kossuth Lajos utca 24.\, Budapest\, 1221\, Hungary
CATEGORIES:Kiállítás
ATTACH;FMTTYPE=image/jpeg:https://magdolnaudvar.hu/wp-content/uploads/2026/04/Ligeti_Zsuzsa_1920.jpg
END:VEVENT
BEGIN:VEVENT
DTSTART;TZID=Europe/Budapest:20260527T180000
DTEND;TZID=Europe/Budapest:20260527T180000
DTSTAMP:20260423T112736
CREATED:20260402T092138Z
LAST-MODIFIED:20260402T092250Z
UID:10018171-1779904800-1779904800@magdolnaudvar.hu
SUMMARY:Szálból szőtt történelem – hogyan nyomoz a textilkutató régész? - Zay Orsolya előadása
DESCRIPTION:2026. május 27. szerda 18:00 \nSzálból szőtt történelem – hogyan nyomoz a textilkutató régész? – Zay Orsolya előadása \nA textilek ritkán maradnak fenn a régészeti leletanyagban\, mégis rengeteget elárulnak a múlt embereiről. Egy textilkutató régész apró nyomokból – szövetszerkezetből\, lenyomatokból\, eszközökből és ábrázolásokból – próbálja rekonstruálni\, mit viseltek\, hogyan készítették ruháikat\, és mit jelentett számukra az öltözet. Az előadás bepillantást ad ebbe a különleges „nyomozásba”\, bemutatva\, miként válik a textil a múlt társadalmi és kulturális történetének forrásává.\nElőadó: Zay Orsolya régész\, az MMA MMKI kutatója. \nA részvétel ingyenes\, de regisztrációhoz kötött. Regisztrálni a fszek2201@fszek.hu címen lehet. \nHelyszín: FSZEK Nagytétényi Könyvtár (1225 Budapest\, Nagytétényi út 283.)
URL:https://magdolnaudvar.hu/esemeny/szalbol-szott-tortenelem-hogyan-nyomoz-a-textilkutato-regesz-zay-orsolya-eloadasa/
CATEGORIES:Ismeretterjesztés
ATTACH;FMTTYPE=image/jpeg:https://magdolnaudvar.hu/wp-content/uploads/2026/04/Szalbol-szott-tortenelem_1920.jpg
END:VEVENT
END:VCALENDAR